BEGIN:VCALENDAR
VERSION:2.0
PRODID:-//GVFS - ECPv6.2.1//NONSGML v1.0//EN
CALSCALE:GREGORIAN
METHOD:PUBLISH
X-WR-CALNAME:GVFS
X-ORIGINAL-URL:https://staging.gvfs.ca
X-WR-CALDESC:Events for GVFS
REFRESH-INTERVAL;VALUE=DURATION:PT1H
X-Robots-Tag:noindex
X-PUBLISHED-TTL:PT1H
BEGIN:VTIMEZONE
TZID:UTC
BEGIN:STANDARD
TZOFFSETFROM:+0000
TZOFFSETTO:+0000
TZNAME:UTC
DTSTART:20230101T000000
END:STANDARD
END:VTIMEZONE
BEGIN:VEVENT
DTSTART;VALUE=DATE:20231101
DTEND;VALUE=DATE:20231216
DTSTAMP:20260423T105042
CREATED:20230827T225018Z
LAST-MODIFIED:20230904T221641Z
UID:200-1698796800-1702684799@staging.gvfs.ca
SUMMARY:Let's Light Up the City\, Together!
DESCRIPTION:Let’s Light Up the City\, Together!
URL:https://staging.gvfs.ca/event/lets-light-up-the-city-together/
ATTACH;FMTTYPE=image/jpeg:https://staging.gvfs.ca/wp-content/uploads/2023/08/gvfs-victoria-bc-santas-lights-parade-2.jpg
END:VEVENT
END:VCALENDAR