BEGIN:VCALENDAR
VERSION:2.0
PRODID:-//GVFS - ECPv6.2.1//NONSGML v1.0//EN
CALSCALE:GREGORIAN
METHOD:PUBLISH
X-WR-CALNAME:GVFS
X-ORIGINAL-URL:https://staging.gvfs.ca
X-WR-CALDESC:Events for GVFS
REFRESH-INTERVAL;VALUE=DURATION:PT1H
X-Robots-Tag:noindex
X-PUBLISHED-TTL:PT1H
BEGIN:VTIMEZONE
TZID:UTC
BEGIN:STANDARD
TZOFFSETFROM:+0000
TZOFFSETTO:+0000
TZNAME:UTC
DTSTART:20240101T000000
END:STANDARD
END:VTIMEZONE
BEGIN:VEVENT
DTSTART;TZID=UTC:20240520T090000
DTEND;TZID=UTC:20240520T090000
DTSTAMP:20260423T092052
CREATED:20230827T224958Z
LAST-MODIFIED:20230831T230045Z
UID:198-1716195600-1716195600@staging.gvfs.ca
SUMMARY:Thrifty Foods 124th Victoria Day Parade presented by Chek TV
DESCRIPTION:Celebrate Victoria Day in British Columbia’s Beautiful Capital City!\nThe Thrifty Foods 124th Victoria Day Parade presented by CHEK TV on Sunday May 20\, 2024 starting at 9am – Douglas and Finlayson to Douglas and Courtney. \nThe Greater Victoria Festival Society will host a world class event showcasing our diverse cultures and celebrating with various community partners and out of town guests! \n		\n						\n					\n		\n				\n				\n					\n							\n				\n									\n						PARADE REGISTRATION 					\n				\n									\n						US & Canadian Bands					\n				\n							\n						\n				\n				\n				\n				\n					\n							\n				\n									\n						PARADE REGISTRATION 					\n				\n									\n						Individual/Non Profit/Corporate					\n				\n							\n						\n				\n				\n				\n		\n		\n					\n				\n				\n			Individual\nEntry $160		\n				\n				\n				\n					\n					\n			\n			\n			\n			\n			\n			\n			\n			\n\n							\n				\n				\n						\n					\n						Buy Now\n		\n				\n				\n				\n				\n				\n					\n				\n		\n					\n				\n				\n			Non-Profit Organization\nEntry $75		\n				\n				\n				\n					\n					\n			\n			\n			\n			\n			\n			\n			\n			\n\n							\n				\n				\n						\n					\n						Buy Now\n		\n				\n				\n				\n				\n				\n					\n				\n		\n					\n				\n				\n			Corporate\nEntry $395		\n				\n				\n				\n					\n					\n			\n			\n			\n			\n			\n			\n			\n			\n\n							\n				\n				\n						\n					\n						Buy Now\n		\n				\n				\n				\n				\n				\n					\n				\n				\n					\n				\n						\n		\nTHRIFTY FOODS 124th  VICTORIA DAY PARADE\nPresented by Chek TV Rules and Regulations
URL:https://staging.gvfs.ca/event/thrifty-foods-124th-victoria-day-parade-presented-by-chek-tv/
ATTACH;FMTTYPE=image/jpeg:https://staging.gvfs.ca/wp-content/uploads/2023/08/victoria-day-parade-header-1.jpg
END:VEVENT
END:VCALENDAR